BEGIN:VCALENDAR
VERSION:2.0
PRODID:-//Babette Dieterich - ECPv6.15.20//NONSGML v1.0//EN
CALSCALE:GREGORIAN
METHOD:PUBLISH
X-ORIGINAL-URL:https://babette-dieterich.de
X-WR-CALDESC:Veranstaltungen für Babette Dieterich
REFRESH-INTERVAL;VALUE=DURATION:PT1H
X-Robots-Tag:noindex
X-PUBLISHED-TTL:PT1H
BEGIN:VTIMEZONE
TZID:Europe/Berlin
BEGIN:DAYLIGHT
TZOFFSETFROM:+0100
TZOFFSETTO:+0200
TZNAME:CEST
DTSTART:20250330T010000
END:DAYLIGHT
BEGIN:STANDARD
TZOFFSETFROM:+0200
TZOFFSETTO:+0100
TZNAME:CET
DTSTART:20251026T010000
END:STANDARD
BEGIN:DAYLIGHT
TZOFFSETFROM:+0100
TZOFFSETTO:+0200
TZNAME:CEST
DTSTART:20260329T010000
END:DAYLIGHT
BEGIN:STANDARD
TZOFFSETFROM:+0200
TZOFFSETTO:+0100
TZNAME:CET
DTSTART:20261025T010000
END:STANDARD
BEGIN:DAYLIGHT
TZOFFSETFROM:+0100
TZOFFSETTO:+0200
TZNAME:CEST
DTSTART:20270328T010000
END:DAYLIGHT
BEGIN:STANDARD
TZOFFSETFROM:+0200
TZOFFSETTO:+0100
TZNAME:CET
DTSTART:20271031T010000
END:STANDARD
END:VTIMEZONE
BEGIN:VEVENT
DTSTART;TZID=Europe/Berlin:20260501T170000
DTEND;TZID=Europe/Berlin:20260501T183000
DTSTAMP:20260423T231058
CREATED:20260218T170634Z
LAST-MODIFIED:20260219T075826Z
UID:1677-1777654800-1777660200@babette-dieterich.de
SUMMARY:Lieder und Klänge mit Babette und Heidemarie
DESCRIPTION:Stille\, die mich stillt\nLieder und Klänge\nmit Babette und Heidemarie \nHerzliche Einladung zu einem Wohnzimmer-Konzert der besonderen Art: Babette spielt und singt ihre selbst geschriebenen Lieder mit Handpan-Begleitung. Der obertonreiche Klang dieses Stahlinstrumentes harmoniert wunderbar mit der warmen Stimme der klassisch ausgebildeten Sängerin. Umrahmt werden die spirituellen Lieder mit heilsamen Klängen von Heidemarie. Die gelernte Klang-Therapeutin lässt unter anderem das Monochord erklingen\, Kristallklangschalen\, die „Lichtbringerin“ und die „Himmelsleiter“.\nDas meditative Konzert lassen wir gemeinsam auf der Terrasse ausklingen. Jeder ist eingeladen\, eine Kleinigkeit zur Stärkung für das Buffet mitzubringen. \nSpendenempfehlung 15\,- € / Person
URL:https://babette-dieterich.de/termin/lieder-und-klaenge-mit-babette-und-heidemarie/
LOCATION:Heidemarie Mungenast\, Gaußstr. 76 B\, Stuttgart\, Baden-Württemberg\, 70193\, Germany
END:VEVENT
BEGIN:VEVENT
DTSTART;TZID=Europe/Berlin:20260509T193000
DTEND;TZID=Europe/Berlin:20260509T210000
DTSTAMP:20260423T231058
CREATED:20260320T153626Z
LAST-MODIFIED:20260320T153626Z
UID:1778-1778355000-1778360400@babette-dieterich.de
SUMMARY:Seelenübungen mit Handpanklängen
DESCRIPTION:  \nFoto: Diethart Verleger \n \nCarmen und Babette laden Dich ein zu einem ganz besonderen Abend\, der Dich tief erfüllen und entspannen wird. Carmen leitet achtsame\, ruhige Seelenübungen an\, die Dich in Balance bringen und harmonisieren. Mit heilsamen Klängen und Liedern an der Handpan begleitet Babette den Abend. \nVorkenntnisse in Yoga sind nicht erforderlich.\nBitte bequeme Kleidung mitbringen. \nAnmeldung über: carmen_a@icloud.com \nBurgenlandstr. 102\, 70469 S-Feuerbach\n25\,- € / ermäßigt 20\,- € für Yogakurs-Teilnehmer*innen von Carmen
URL:https://babette-dieterich.de/termin/seelenuebungen-mit-handpanklaengen/
LOCATION:Ananda Jyoti Yoga\, Burgenlandstr. 102\, Stuttgart\, Baden-Württemberg\, 70469\, Germany
END:VEVENT
BEGIN:VEVENT
DTSTART;TZID=Europe/Berlin:20260628T150000
DTEND;TZID=Europe/Berlin:20260628T170000
DTSTAMP:20260423T231058
CREATED:20260218T170014Z
LAST-MODIFIED:20260218T170014Z
UID:1673-1782658800-1782666000@babette-dieterich.de
SUMMARY:Wohlfühlkonzert mit Christina Kraus
DESCRIPTION:Foto: Diethart Verleger \nEs freut mich sehr\, dass mich Christina Kraus\, eine feinfühlige\, kreative Liedermacherin\, eingeladen hat\, zusammen mit ihr ein Wohlfühlkonzert zu machen. In dem wunderschönen Seminarhaus linksambach gestalten wir gemeinsam einen Sonntagnachmittag mit eigenen Liedern\, Musik und Zeit für Gespräch und Austausch. Besinnlich\, poetisch\, meditativ und sommerlich!
URL:https://babette-dieterich.de/termin/wohlfuehlkonzert-mit-christina-kraus/
LOCATION:linksambach\, Linkstr. 19\, 73230 Kirchheim-Ötlingen\, Baden-Württemberg\, 73230\, Germany
END:VEVENT
BEGIN:VEVENT
DTSTART;TZID=Europe/Berlin:20260712T150000
DTEND;TZID=Europe/Berlin:20260712T170000
DTSTAMP:20260423T231058
CREATED:20260223T150829Z
LAST-MODIFIED:20260410T064940Z
UID:1684-1783868400-1783875600@babette-dieterich.de
SUMMARY:FlussSingen am Feuerbach
DESCRIPTION:Die Sängerin und Musikerin Babette Dieterich und Märchenschnecke Juliane Schneck nehmen an der Aktion FlussSingen teil und besingen unseren kleinen\, feinen Feuerbach. Es gibt ein buntes Programm aus Mitsingliedern\, Liedern zum Zuhören\, Märchen und vielem mehr. Eingeladen sind große und kleine Menschen jeden Alters.\nBitte Picknickdecke\, Sitzgelegenheiten\, etwas zu essen und zu trinken mitbringen. Unser gemeinsames FlussSingen soll ein Fest werden!\nWir treffen uns auf einer Wiese am Feuerbach auf Höhe der Mähderklinge (Bushaltestelle „Mähderklinge“ Bus 91 zwischen Feuerbach und Botnang\, dort ist auch ein Parkplatz). Man erreicht die Wiese am Feuerbach auch gut über den Radweg zwischen Feuerbach und Killesberg. Beginn ist am Sonntag\, 12. Juli um 15 Uhr. \nauf Spendenbasis
URL:https://babette-dieterich.de/termin/flusssingen-am-feuerbach/
LOCATION:Feuerbach\, am Feuerbach\, Höhe Mähderklinge\, Mähderklinge\, Feuerbach\, Baden-Württemberg\, 70469\, Germany
END:VEVENT
END:VCALENDAR